BEGIN:VCALENDAR
PRODID:-//github.com/rianjs/ical.net//NONSGML ical.net 4.0//EN
VERSION:2.0
BEGIN:VEVENT
DESCRIPTION:Kennenlerntour durch Stuttgarter Stadtteile\nhttps://touren-te
 rmine.adfc.de/radveranstaltung/104514-fahrradstadtteiltour-zuffenhausen
DTEND:20230812T140000Z
DTSTAMP:20260424T144236Z
DTSTART:20230812T120000Z
LOCATION:Zuffenhäuser Kelterplatz\, 70435 Stuttgart
SEQUENCE:0
SUMMARY:Fahrrad-Stadtteiltour Zuffenhausen
UID:ec8d0a72-58af-4910-97b0-e3bf0deab187
URL:https://touren-termine.adfc.de/radveranstaltung/104514-fahrradstadttei
 ltour-zuffenhausen
END:VEVENT
END:VCALENDAR
