BEGIN:VCALENDAR
PRODID:-//github.com/rianjs/ical.net//NONSGML ical.net 4.0//EN
VERSION:2.0
BEGIN:VEVENT
DESCRIPTION:Auf dem Leineradweg führt uns eine zuallermeist flache Ausfahr
 t von Göttingen über Einbeck und Kreiensen nach Alfeld. Rückfahrt mit der
  Bahn.\nhttps://touren-termine.adfc.de/radveranstaltung/185814-auf-dem-le
 ineradweg-nach-alfeld
DTEND:20260614T150000Z
DTSTAMP:20260425T014843Z
DTSTART:20260614T070000Z
LOCATION:ADFC-Werkstatt\, Güterbahnhofstraße 9\, 37073 Göttingen
SEQUENCE:0
SUMMARY:Auf dem Leineradweg nach Alfeld
UID:c5c913f3-74b3-41b2-96c4-5ff3ffa18e36
URL:https://touren-termine.adfc.de/radveranstaltung/185814-auf-dem-leinera
 dweg-nach-alfeld
END:VEVENT
END:VCALENDAR
