BEGIN:VCALENDAR
PRODID:-//github.com/rianjs/ical.net//NONSGML ical.net 4.0//EN
VERSION:2.0
BEGIN:VEVENT
DESCRIPTION:30 - 35 km\nhttps://touren-termine.adfc.de/radveranstaltung/14
 2588-kurztour
DTEND:20250618T180000Z
DTSTAMP:20260423T105519Z
DTSTART:20250618T160000Z
LOCATION:Rathaus\, Fuhrberger Straße 3\, 30938 Burgwedel
SEQUENCE:0
SUMMARY:Kurztour
UID:3aaf7aa7-492f-408e-a243-6c22ced42392
URL:https://touren-termine.adfc.de/radveranstaltung/142588-kurztour
END:VEVENT
END:VCALENDAR
