BEGIN:VCALENDAR
PRODID:-//github.com/rianjs/ical.net//NONSGML ical.net 4.0//EN
VERSION:2.0
BEGIN:VEVENT
DESCRIPTION:Unsere Geschäftsstelle ist für alle Anliegen und offenen Frage
 n geöffnet.\nhttps://touren-termine.adfc.de/radveranstaltung/147851-offnu
 ngszeit-unserer-geschaftsstelle
DTEND:20250116T170000Z
DTSTAMP:20260421T121301Z
DTSTART:20250116T150000Z
LOCATION:Essen (Innenstadt)\, ADFC Essen Geschäftsstelle\, Rottstraße 5\, 
 45127 Essen
SEQUENCE:0
SUMMARY:Öffnungszeit unserer Geschäftsstelle
UID:38807188-0ed6-4fd5-bf52-15f7fb0c973b
URL:https://touren-termine.adfc.de/radveranstaltung/147851-offnungszeit-un
 serer-geschaftsstelle
END:VEVENT
END:VCALENDAR
