BEGIN:VCALENDAR
PRODID:-//github.com/rianjs/ical.net//NONSGML ical.net 4.0//EN
VERSION:2.0
BEGIN:VEVENT
DESCRIPTION:Für alle Tourenleiter:innen und die\, die es werden wollen. Ta
 gung und Übernachtung im Waldseehotel Wirchensee (Schlaubetal). Die Anfah
 rt erfolgt auf mehreren Routen per Rad bzw. Bahn und Fahrrad.\nhttps://to
 uren-termine.adfc.de/radveranstaltung/138769-mehrtagestour-treffen-der-to
 urenleitenden-2024
DTEND:20241110T130000Z
DTSTAMP:20260424T173129Z
DTSTART:20241108T150000Z
LOCATION:Verschiedene Treffpunkte\, 10963 Berlin
SEQUENCE:0
SUMMARY:Mehrtagestour - Treffen der Tourenleitenden 2024
UID:da2d636a-ffeb-447f-b2a3-83d22cc01216
URL:https://touren-termine.adfc.de/radveranstaltung/138769-mehrtagestour-t
 reffen-der-tourenleitenden-2024
END:VEVENT
END:VCALENDAR
