BEGIN:VCALENDAR
PRODID:-//github.com/rianjs/ical.net//NONSGML ical.net 4.0//EN
VERSION:2.0
BEGIN:VEVENT
DESCRIPTION:Diesen Monat treffen sich die Cyclista* draußen\, genießen ein
 en schönen Abend und dikutieren über die beste Tour zur Beendigung des Pa
 triarchats.\nhttps://touren-termine.adfc.de/radveranstaltung/165480-cycli
 staclub-on-tour
DTEND:20250517T180000Z
DTSTAMP:20260420T230745Z
DTSTART:20250517T150000Z
LOCATION:Osterbrookplatz\, 20537 Hamburg
SEQUENCE:0
SUMMARY:Cyclista*Club on Tour
UID:ce78105e-cf28-4b52-919f-d4ef9ce60fd3
URL:https://touren-termine.adfc.de/radveranstaltung/165480-cyclistaclub-on
 -tour
END:VEVENT
END:VCALENDAR
