BEGIN:VCALENDAR
PRODID:-//github.com/rianjs/ical.net//NONSGML ical.net 4.0//EN
VERSION:2.0
BEGIN:VEVENT
DESCRIPTION:Für mehr Freiheit und weniger Angst auf täglichen Wegen demons
 trieren Essener Eltern und Kinder auch wieder 2024. Jede Unterstützer*in\
 , ob jung oder alt\, ob mit Laufrad oder Lastenrad\, ist willkommen!\nhtt
 ps://touren-termine.adfc.de/radveranstaltung/120589-1-kidical-mass-essen-
 2024-holsterhausen
DTEND:20240504T130000Z
DTSTAMP:20260419T181848Z
DTSTART:20240504T120000Z
LOCATION:Gemarkenstraße (Kirchplatz)\, 45147 Essen
SEQUENCE:0
SUMMARY:1. Kidical Mass Essen 2024 - Holsterhausen
UID:af840cf8-02d4-4b9d-93bb-b7999ca86e90
URL:https://touren-termine.adfc.de/radveranstaltung/120589-1-kidical-mass-
 essen-2024-holsterhausen
END:VEVENT
END:VCALENDAR
