BEGIN:VCALENDAR
PRODID:-//github.com/rianjs/ical.net//NONSGML ical.net 4.0//EN
VERSION:2.0
BEGIN:VEVENT
DESCRIPTION:Tradition´s Tour Glühwein um 12:00 Uhr an der Grillhütte Diepe
 schrather Mühle\nGlühwein und Getränke sowie Verpflegung bringt jeder bit
 te selbst für sich mit.\nhttps://touren-termine.adfc.de/radveranstaltung/
 173815-tradition-gluhweintour-ab-bf-kolndeutz
DTEND:20251213T140000Z
DTSTAMP:20260423T151800Z
DTSTART:20251213T100000Z
LOCATION:Bahnhof Deutz\, Ottoplatz 7\, 50679 Köln
SEQUENCE:0
SUMMARY:Tradition: Glühweintour ab Bf Köln-Deutz
UID:bb843bae-f48e-4ac6-b931-6905697fd4ca
URL:https://touren-termine.adfc.de/radveranstaltung/173815-tradition-gluhw
 eintour-ab-bf-kolndeutz
END:VEVENT
END:VCALENDAR
