BEGIN:VCALENDAR
PRODID:-//github.com/rianjs/ical.net//NONSGML ical.net 4.0//EN
VERSION:2.0
BEGIN:VEVENT
DESCRIPTION:Schulze Scholle\nhttps://touren-termine.adfc.de/radveranstaltu
 ng/181746-von-borken-nach-gescher-zum-hof-schulze-scholle
DTEND:20260704T150000Z
DTSTAMP:20260421T151624Z
DTSTART:20260704T080000Z
LOCATION:Markt 17\, 46325 Borken
SEQUENCE:0
SUMMARY:Von Borken nach Gescher zum Hof Schulze Scholle
UID:744ed492-4f46-4937-ad99-6fd137e4fefd
URL:https://touren-termine.adfc.de/radveranstaltung/181746-von-borken-nach
 -gescher-zum-hof-schulze-scholle
END:VEVENT
END:VCALENDAR
