BEGIN:VCALENDAR
PRODID:-//github.com/rianjs/ical.net//NONSGML ical.net 4.0//EN
VERSION:2.0
BEGIN:VEVENT
DESCRIPTION:Die Tour führt über die Fildern ins Aichtal. Über Waldenbuch\,
  Schönaich Vaihingen geht es nach Degerloch\nhttps://touren-termine.adfc.
 de/radveranstaltung/176177-von-mohringen-nach-degerloch
DTEND:20251212T150000Z
DTSTAMP:20260424T144412Z
DTSTART:20251212T083000Z
LOCATION:Filderbahnplatz 25\, 70567 Stuttgart
SEQUENCE:0
SUMMARY:Von Möhringen nach Degerloch
UID:06f05f8b-1a62-4826-8fa3-fffc926c2b50
URL:https://touren-termine.adfc.de/radveranstaltung/176177-von-mohringen-n
 ach-degerloch
END:VEVENT
END:VCALENDAR
