BEGIN:VCALENDAR
PRODID:-//github.com/rianjs/ical.net//NONSGML ical.net 4.0//EN
VERSION:2.0
BEGIN:VEVENT
DESCRIPTION:Wir treffen uns jeden 1. Donnerstag eines Monats (außer August
 ) um 19:00 Uhr im Gasthaus Belfort in Kaufbeuren\, Mindelheimer Str. 35. 
 Fahrrad-Codierung möglich. ACHTUNG: im Mai am 2. Donnerstag!\nhttps://tou
 ren-termine.adfc.de/radveranstaltung/145072-adfcstammtisch
DTEND:20250508T190000Z
DTSTAMP:20260419T155933Z
DTSTART:20250508T170000Z
LOCATION:Gasthaus Belfort\, Mindelheimer Straße 35\, 87600 Kaufbeuren
SEQUENCE:0
SUMMARY:ADFC-Stammtisch
UID:94bb9028-044f-4901-92db-03a70c5f473f
URL:https://touren-termine.adfc.de/radveranstaltung/145072-adfcstammtisch
END:VEVENT
END:VCALENDAR
