BEGIN:VCALENDAR
PRODID:-//github.com/rianjs/ical.net//NONSGML ical.net 4.0//EN
VERSION:2.0
BEGIN:VEVENT
DESCRIPTION:Jeden Montag findet morgens eine Radtour statt.\nhttps://toure
 n-termine.adfc.de/radveranstaltung/169524-montag-morgen-tour
DTEND:20250811T100000Z
DTSTAMP:20260423T201044Z
DTSTART:20250811T080000Z
LOCATION:In der Ahe 29\, 27356 Rotenburg
SEQUENCE:0
SUMMARY:Montag Morgen Tour
UID:948f9ca9-2aa5-4c46-b52d-dc85a30d41d9
URL:https://touren-termine.adfc.de/radveranstaltung/169524-montag-morgen-t
 our
END:VEVENT
END:VCALENDAR
