BEGIN:VCALENDAR
PRODID:-//github.com/rianjs/ical.net//NONSGML ical.net 4.0//EN
VERSION:2.0
BEGIN:VEVENT
DESCRIPTION:Radtour der ADFC Ortsgruppe Hattingen/Sprockhövel im Rahmen de
 s 10. Hattinger Fahrradfrühlings\nhttps://touren-termine.adfc.de/radveran
 staltung/190015-auf-und-ab-durch-die-essener-kruppstadt
DTEND:20260501T160000Z
DTSTAMP:20260421T192237Z
DTSTART:20260501T080000Z
LOCATION:Parkplatz Holschentor\, Talstraße 8\, 45525 Hattingen
SEQUENCE:0
SUMMARY:Auf und ab durch die Essener Krupp-Stadt
UID:dd62355a-511c-4340-bdff-b2d0fcf16cc4
URL:https://touren-termine.adfc.de/radveranstaltung/190015-auf-und-ab-durc
 h-die-essener-kruppstadt
END:VEVENT
END:VCALENDAR
