BEGIN:VCALENDAR
PRODID:-//github.com/rianjs/ical.net//NONSGML ical.net 4.0//EN
VERSION:2.0
BEGIN:VEVENT
DESCRIPTION:Unsere Geschäftsstelle ist für alle Anliegen und offenen Frage
 n geöffnet.\nhttps://touren-termine.adfc.de/radveranstaltung/147963-offnu
 ngszeit-unserer-geschaftsstelle
DTEND:20250404T160000Z
DTSTAMP:20260421T121142Z
DTSTART:20250404T140000Z
LOCATION:Essen (Innenstadt)\, ADFC Essen Geschäftsstelle\, Rottstraße 5\, 
 45127 Essen
SEQUENCE:0
SUMMARY:Öffnungszeit unserer Geschäftsstelle
UID:c0f78400-6f14-4561-aa11-0d65a958dd70
URL:https://touren-termine.adfc.de/radveranstaltung/147963-offnungszeit-un
 serer-geschaftsstelle
END:VEVENT
END:VCALENDAR
