BEGIN:VCALENDAR
PRODID:-//github.com/rianjs/ical.net//NONSGML ical.net 4.0//EN
VERSION:2.0
BEGIN:VEVENT
DESCRIPTION:Eine barockes Wasserschloss mit einer wunderbaren Parkanlage. 
 Es ist eine schone Tour und ist sehr gut zu fahren.\nhttps://touren-termi
 ne.adfc.de/radveranstaltung/91603-zum-schloss-nordkirchen
DTEND:20230627T160000Z
DTSTAMP:20260421T114626Z
DTSTART:20230627T080000Z
LOCATION:Klinikzentrum Nord\, Schützenstr./Beethovenstr.\, 44147 Dortmund
SEQUENCE:0
SUMMARY:Zum Schloss Nordkirchen
UID:4b61dd82-641e-4cbe-881b-396a506508e6
URL:https://touren-termine.adfc.de/radveranstaltung/91603-zum-schloss-nord
 kirchen
END:VEVENT
END:VCALENDAR
