BEGIN:VCALENDAR
PRODID:-//github.com/rianjs/ical.net//NONSGML ical.net 4.0//EN
VERSION:2.0
BEGIN:VEVENT
DESCRIPTION:Wir radeln durch kleine Dörfer und entlang eines Kanals\, um O
 tterndorf zu erreichen. Der Rückweg führt idyllisch am Wasser entlang.\nh
 ttps://touren-termine.adfc.de/radveranstaltung/176129-uber-die-dorfer-nac
 h-otterndorf
DTEND:20260815T150000Z
DTSTAMP:20260421T055317Z
DTSTART:20260815T110000Z
LOCATION:Bürgerbahnhof\, Am Bahnhof 1\, 27472 Cuxhaven
SEQUENCE:0
SUMMARY:Über die Dörfer nach Otterndorf
UID:06ce0075-3339-4629-a51c-7c788ea4c7de
URL:https://touren-termine.adfc.de/radveranstaltung/176129-uber-die-dorfer
 -nach-otterndorf
END:VEVENT
END:VCALENDAR
