BEGIN:VCALENDAR
PRODID:-//github.com/rianjs/ical.net//NONSGML ical.net 4.0//EN
VERSION:2.0
BEGIN:VEVENT
DESCRIPTION:Die Tour führt uns zu den geschichtsträchtigen ev. Kirchen der
  Stadt Herborn. Wir besuchen alle Stadtteile von Herborn.\nhttps://touren
 -termine.adfc.de/radveranstaltung/121466-die-evangelischen-kirchen-der-st
 adt-herborn
DTEND:20240608T160000Z
DTSTAMP:20260424T170714Z
DTSTART:20240608T120000Z
LOCATION:Marktbrunnen\, Fußgängerzone\, 35745 Herborn
SEQUENCE:0
SUMMARY:Die evangelischen Kirchen der Stadt Herborn
UID:ed949d8e-3c4d-4b2d-85b0-0920ca50e255
URL:https://touren-termine.adfc.de/radveranstaltung/121466-die-evangelisch
 en-kirchen-der-stadt-herborn
END:VEVENT
END:VCALENDAR
