BEGIN:VCALENDAR
PRODID:-//github.com/rianjs/ical.net//NONSGML ical.net 4.0//EN
VERSION:2.0
BEGIN:VEVENT
DESCRIPTION:Vor dem Radlerstammtisch treffen sich die Aktiven und die Vors
 tandschaft.\nhttps://touren-termine.adfc.de/radveranstaltung/174097-aktiv
 entreff
DTEND:20260903T170000Z
DTSTAMP:20260419T155728Z
DTSTART:20260903T160000Z
LOCATION:Gasthaus Belfort\, Mindelheimer Straße 35\, 87600 Kaufbeuren
SEQUENCE:0
SUMMARY:Aktiventreff
UID:8feb1677-e693-4771-9c91-6fe968d50764
URL:https://touren-termine.adfc.de/radveranstaltung/174097-aktiventreff
END:VEVENT
END:VCALENDAR
