BEGIN:VCALENDAR
PRODID:-//github.com/rianjs/ical.net//NONSGML ical.net 4.0//EN
VERSION:2.0
BEGIN:VEVENT
DESCRIPTION:Wir erkunden gemeinsam die Siegener Umweltspur\nhttps://touren
 -termine.adfc.de/radveranstaltung/139186-flanieren-auf-der-umweltspur-kop
 ie
DTEND:20240912T170000Z
DTSTAMP:20260423T030954Z
DTSTART:20240912T170000Z
LOCATION:Bahnhof Weidenau\, 57076 Siegen
SEQUENCE:0
SUMMARY:Flanieren auf der Umweltspur (Kopie)
UID:76ee54b7-904a-4031-ae33-9989c6158dbe
URL:https://touren-termine.adfc.de/radveranstaltung/139186-flanieren-auf-d
 er-umweltspur-kopie
END:VEVENT
END:VCALENDAR
