BEGIN:VCALENDAR
PRODID:-//github.com/rianjs/ical.net//NONSGML ical.net 4.0//EN
VERSION:2.0
BEGIN:VEVENT
DESCRIPTION:Museumsbesuch mit Führung (Eintritt 8\,00 €/P.)\nhttps://toure
 n-termine.adfc.de/radveranstaltung/120329-tagestour-zum-deutschen-erdolmu
 seum-wietze
DTEND:20240421T130000Z
DTSTAMP:20260421T221250Z
DTSTART:20240421T080000Z
LOCATION:Am Teich im Französischen Garten\, 29221 Celle
SEQUENCE:0
SUMMARY:Tagestour zum Deutschen Erdölmuseum Wietze
UID:da7abe61-451c-4b21-8c2e-2bf9677c0268
URL:https://touren-termine.adfc.de/radveranstaltung/120329-tagestour-zum-d
 eutschen-erdolmuseum-wietze
END:VEVENT
END:VCALENDAR
