BEGIN:VCALENDAR
PRODID:-//github.com/rianjs/ical.net//NONSGML ical.net 4.0//EN
VERSION:2.0
BEGIN:VEVENT
DESCRIPTION:Anfahrt mit PKW oder Bahn / Von Gronau Epe geht es entlang des
  "Lagapads" zum Dinkelstrand im Naturschutzgebiet "Lutterzand".\nTreffpun
 kt: Coesfeld\, Borkener Str.\, Parkplatz Edeka\nhttps://touren-termine.ad
 fc.de/radveranstaltung/145404-hollandtour-mal-anders
DTEND:20250810T160000Z
DTSTAMP:20260419T231822Z
DTSTART:20250810T080000Z
LOCATION:Borkener Straße 75\, 48653 Coesfeld
SEQUENCE:0
SUMMARY:Hollandtour mal anders...
UID:54ebb485-4978-4242-b22c-326f5ec6b587
URL:https://touren-termine.adfc.de/radveranstaltung/145404-hollandtour-mal
 -anders
END:VEVENT
END:VCALENDAR
