BEGIN:VCALENDAR
PRODID:-//github.com/rianjs/ical.net//NONSGML ical.net 4.0//EN
VERSION:2.0
BEGIN:VEVENT
DESCRIPTION:Die Tour verläuft zunächst bis Nürtingen am Neckar\, dann bis 
 Neuenhaus im Aichtal. Über Waldenbuch geht es schließlich im Siebenmühlen
 tal nach S-Vaihingen.\nhttps://touren-termine.adfc.de/radveranstaltung/17
 2854-von-plochingen-nach-stuttgart-vaihingen
DTEND:20251114T150000Z
DTSTAMP:20260424T144004Z
DTSTART:20251114T081500Z
LOCATION:Kegelenstraße 12\, 70372 Stuttgart
SEQUENCE:0
SUMMARY:Von Plochingen nach Stuttgart - Vaihingen
UID:704fb572-04f5-44b6-bdd3-115cfd23f669
URL:https://touren-termine.adfc.de/radveranstaltung/172854-von-plochingen-
 nach-stuttgart-vaihingen
END:VEVENT
END:VCALENDAR
