BEGIN:VCALENDAR
PRODID:-//github.com/rianjs/ical.net//NONSGML ical.net 4.0//EN
VERSION:2.0
BEGIN:VEVENT
DESCRIPTION:Mehr Sicherheit für den Radverkehr durch StVO konforme Seitena
 bstände beim Überholen durch Kraftfahrzeuge\nhttps://touren-termine.adfc.
 de/radveranstaltung/117244-projektgruppe-openbikesensor
DTEND:20240812T180000Z
DTSTAMP:20260420T230944Z
DTSTART:20240812T163000Z
LOCATION:Koppel 34-36\, 20099 Hamburg
SEQUENCE:0
SUMMARY:Projektgruppe OpenBikeSensor
UID:1b9881dd-be3d-4e0d-84a9-b76712052789
URL:https://touren-termine.adfc.de/radveranstaltung/117244-projektgruppe-o
 penbikesensor
END:VEVENT
END:VCALENDAR
