BEGIN:VCALENDAR
PRODID:-//github.com/rianjs/ical.net//NONSGML ical.net 4.0//EN
VERSION:2.0
BEGIN:VEVENT
DESCRIPTION:Auf den Spuren des Radrennens „Paris-Roubaix“ / seit 1895 imme
 r gern am 2.Sonntag im April\nhttps://touren-termine.adfc.de/radveranstal
 tung/198531-countrycross-parisroubaix-oh-la-la-
DTEND:20270411T140000Z
DTSTAMP:20260424T202143Z
DTSTART:20270411T090000Z
LOCATION:Apollo-Platz\, 40213 Düsseldorf
SEQUENCE:0
SUMMARY:Country-Cross Paris-Roubaix - oh\, là\, là !
UID:e9756ee9-6909-456e-b34b-00ff52cb5513
URL:https://touren-termine.adfc.de/radveranstaltung/198531-countrycross-pa
 risroubaix-oh-la-la-
END:VEVENT
END:VCALENDAR
