BEGIN:VCALENDAR
PRODID:-//github.com/rianjs/ical.net//NONSGML ical.net 4.0//EN
VERSION:2.0
BEGIN:VEVENT
DESCRIPTION:Von Kolbermoor über Lohholz\, Ellmosen\, Fischbach nach Bayhar
 ting. Zurück über Schmidhausen\, Filzenklas\, Thann\, Ellmosen\, Aschach.
 \nhttps://touren-termine.adfc.de/radveranstaltung/198435-kolbermoor-bayha
 rting
DTEND:20260428T133000Z
DTSTAMP:20260419T193925Z
DTSTART:20260428T110000Z
LOCATION:Von-Bippen-Straße 21\, 83059 Kolbermoor
SEQUENCE:0
SUMMARY:Kolbermoor - Bayharting
UID:6415e4d5-6dab-4506-92b3-ccfb4e23db99
URL:https://touren-termine.adfc.de/radveranstaltung/198435-kolbermoor-bayh
 arting
END:VEVENT
END:VCALENDAR
