BEGIN:VCALENDAR
PRODID:-//github.com/rianjs/ical.net//NONSGML ical.net 4.0//EN
VERSION:2.0
BEGIN:VEVENT
DESCRIPTION:Vorankündigung: Die Radltour des Landkreises Ostallgäu in Zusa
 mmenarbeit mit der Aktienbrauerei Kaufbeuren - Start und Ziel ist Pforzen
 .\nhttps://touren-termine.adfc.de/radveranstaltung/88896-13-abk-allgauer-
 radltour-ab-pforzen
DTEND:20230625T130000Z
DTSTAMP:20260419T193235Z
DTSTART:20230625T060000Z
LOCATION:Auf den Auen 1\, 87666 Landkreis Ostallgäu
SEQUENCE:0
SUMMARY:13. ABK Allgäuer Radltour ab Pforzen
UID:36321137-1dee-4fc7-a780-9374118ca9ee
URL:https://touren-termine.adfc.de/radveranstaltung/88896-13-abk-allgauer-
 radltour-ab-pforzen
END:VEVENT
END:VCALENDAR
