BEGIN:VCALENDAR
PRODID:-//github.com/rianjs/ical.net//NONSGML ical.net 4.0//EN
VERSION:2.0
BEGIN:VEVENT
DESCRIPTION:Dienstags & Donnerstags zwischen 18:00 und 20:00 Uhr kann dort
  jeder\, sein Fahrrad eigenverantwortlich selbst reparieren - wenn nötig 
 unter Anleitung oder Mithilfe unsere Werkstattteams\nhttps://touren-termi
 ne.adfc.de/radveranstaltung/155521-selbsthilfewerkstatt-ist-geoffnet
DTEND:20260103T180000Z
DTSTAMP:20260424T151411Z
DTSTART:20250408T160000Z
LOCATION:ADFC-Selbsthilfewerkstatt\, Weinweg 6\, 93049 Regensburg
SEQUENCE:0
SUMMARY:Selbsthilfewerkstatt ist geöffnet
UID:da600a18-dbde-4146-a54a-1db10a177f73
URL:https://touren-termine.adfc.de/radveranstaltung/155521-selbsthilfewerk
 statt-ist-geoffnet
END:VEVENT
END:VCALENDAR
