BEGIN:VCALENDAR
PRODID:-//github.com/rianjs/ical.net//NONSGML ical.net 4.0//EN
VERSION:2.0
BEGIN:VEVENT
DESCRIPTION:Radreisevortrag von Heidi und Reiner Strassmeier um 19:00 Uhr 
 im Gasthaus Belfort in Kaufbeuren\, Mindelheimer Str. 35. Fahrrad-Codieru
 ng möglich\nhttps://touren-termine.adfc.de/radveranstaltung/174104-adfcst
 ammtisch-mit-radreisevortrag
DTEND:20260409T170000Z
DTSTAMP:20260419T155837Z
DTSTART:20260409T170000Z
LOCATION:Gasthaus Belfort\, Mindelheimer Straße 35\, 87600 Kaufbeuren
SEQUENCE:0
SUMMARY:ADFC-Stammtisch mit Radreisevortrag
UID:9c5f8d53-280a-4886-9e8c-e87d9546301e
URL:https://touren-termine.adfc.de/radveranstaltung/174104-adfcstammtisch-
 mit-radreisevortrag
END:VEVENT
END:VCALENDAR
