BEGIN:VCALENDAR
PRODID:-//github.com/rianjs/ical.net//NONSGML ical.net 4.0//EN
VERSION:2.0
BEGIN:VEVENT
DESCRIPTION:Vom S Bahnhof Treptower Park fahren wir entlang der Spree nach
  Oberschöneweide.\nhttps://touren-termine.adfc.de/radveranstaltung/169376
 -radtourberliner-industriegeschichte-erleben
DTEND:20250906T130000Z
DTSTAMP:20260424T144246Z
DTSTART:20250906T083000Z
LOCATION:S Treptower Park\, Puschkinallee\, 12435 Berlin
SEQUENCE:0
SUMMARY:Radtour-Berliner Industriegeschichte erleben
UID:faab9a1d-52bc-4a30-84e2-dc2d520f6e66
URL:https://touren-termine.adfc.de/radveranstaltung/169376-radtourberliner
 -industriegeschichte-erleben
END:VEVENT
END:VCALENDAR
