BEGIN:VCALENDAR
PRODID:-//github.com/rianjs/ical.net//NONSGML ical.net 4.0//EN
VERSION:2.0
BEGIN:VEVENT
DESCRIPTION:Einmal im Monat bieten wir eine flotte Feierabendtour für alle
  Frauen an\, die Bewegung\, frische Luft und nette Gesellschaft suchen. D
 amit bieten wir erstmals eine Tour am Montag.\nhttps://touren-termine.adf
 c.de/radveranstaltung/181977-flotte-frauen-fahrt
DTEND:20260518T180000Z
DTSTAMP:20260421T102239Z
DTSTART:20260518T153000Z
LOCATION:ADFC Infoladen Ziegelhofstraße 97\, 26121 Oldenburg\, 26121 Olden
 burg
SEQUENCE:0
SUMMARY:Flotte Frauen Fahrt
UID:ef71a475-6b18-4c29-ad2a-20166c61d0d0
URL:https://touren-termine.adfc.de/radveranstaltung/181977-flotte-frauen-f
 ahrt
END:VEVENT
END:VCALENDAR
