BEGIN:VCALENDAR
PRODID:-//github.com/rianjs/ical.net//NONSGML ical.net 4.0//EN
VERSION:2.0
BEGIN:VEVENT
DESCRIPTION:Lernt mit uns die Freiheit des Fahrradfahrens kennen. Gemeinsa
 m üben wir das Fahren und Bremsen und die Verkehrsregeln. - Details und A
 nmeldung für 11-13 Uhr o. 13:30-15:30 Uhr siehe Beschreibung\nhttps://tou
 ren-termine.adfc.de/radveranstaltung/103887-frauenfahrradschule-mit-spass
 -radfahren-lernen
DTEND:20230729T133000Z
DTSTAMP:20260424T050549Z
DTSTART:20230729T090000Z
LOCATION:Jugendverkehrsschule\, Baikalstraße 4\, 10319 Berlin
SEQUENCE:0
SUMMARY:FrauenFahrradSchule: mit Spaß Radfahren lernen
UID:a797fc1b-a44f-4731-a443-df34ea82242e
URL:https://touren-termine.adfc.de/radveranstaltung/103887-frauenfahrradsc
 hule-mit-spass-radfahren-lernen
END:VEVENT
END:VCALENDAR
