BEGIN:VCALENDAR
PRODID:-//github.com/rianjs/ical.net//NONSGML ical.net 4.0//EN
VERSION:2.0
BEGIN:VEVENT
DESCRIPTION:Von Gemünd/Schleiden aus starten wir an der Urft entlang zur  
 Burg Vogelsang und über Wollseifen\, Einruhr\, den Rur Radweg folgend bis
  zur Einkehr in Grünental.\nhttps://touren-termine.adfc.de/radveranstaltu
 ng/158244-eifel-tour-anmeldung-erforderlich
DTEND:20250712T160000Z
DTSTAMP:20260421T204143Z
DTSTART:20250712T080000Z
LOCATION:Eifel-Ardennen-Platz\, 53937 Schleiden
SEQUENCE:0
SUMMARY:Eifel Tour (Anmeldung erforderlich)
UID:6c9b2975-3711-44fc-8914-4d3c509325e2
URL:https://touren-termine.adfc.de/radveranstaltung/158244-eifel-tour-anme
 ldung-erforderlich
END:VEVENT
END:VCALENDAR
