BEGIN:VCALENDAR
PRODID:-//github.com/rianjs/ical.net//NONSGML ical.net 4.0//EN
VERSION:2.0
BEGIN:VEVENT
DESCRIPTION:Weil’s letztes Mal so schön war\, treffen wir uns außer der Re
 ihe am 14. Juli nochmals zu einer Sonntagstour ins Grüne!\nhttps://touren
 -termine.adfc.de/radveranstaltung/136368-spontane-sonntagstour-ins-grune
DTEND:20240714T100000Z
DTSTAMP:20260421T132224Z
DTSTART:20240714T080000Z
LOCATION:Mühlenstraße 2\, 58553 Halver
SEQUENCE:0
SUMMARY:(spontane) Sonntagstour ins Grüne
UID:3bef4c3f-ac1a-4d58-be7c-ebd545471bf0
URL:https://touren-termine.adfc.de/radveranstaltung/136368-spontane-sonnta
 gstour-ins-grune
END:VEVENT
END:VCALENDAR
