BEGIN:VCALENDAR
PRODID:-//github.com/rianjs/ical.net//NONSGML ical.net 4.0//EN
VERSION:2.0
BEGIN:VEVENT
DESCRIPTION:Unsere Geschäftsstelle ist für alle Anliegen und offenen Frage
 n geöffnet.\nhttps://touren-termine.adfc.de/radveranstaltung/183848-offnu
 ngszeit-unserer-geschaftsstelle
DTEND:20260903T160000Z
DTSTAMP:20260421T115748Z
DTSTART:20260903T140000Z
LOCATION:Essen (Innenstadt)\, ADFC Essen Geschäftsstelle\, Rottstraße 5\, 
 45127 Essen
SEQUENCE:0
SUMMARY:Öffnungszeit unserer Geschäftsstelle
UID:1a4b7d68-b71e-4386-89e6-e03afa592f62
URL:https://touren-termine.adfc.de/radveranstaltung/183848-offnungszeit-un
 serer-geschaftsstelle
END:VEVENT
END:VCALENDAR
