BEGIN:VCALENDAR
PRODID:-//github.com/rianjs/ical.net//NONSGML ical.net 4.0//EN
VERSION:2.0
BEGIN:VEVENT
DESCRIPTION:Dieses Sicherheitstraining von zertifizierten Trainer*innen de
 s ADFC gibt deinen Fähigkeiten beim Radfahren noch einen entscheidenden E
 xtra-Schub.\nhttps://touren-termine.adfc.de/radveranstaltung/169087-mehr-
 sicherheit-und-spass-beim-radfahren
DTEND:20250920T150000Z
DTSTAMP:20260420T232332Z
DTSTART:20250920T120000Z
LOCATION:Reiherdamm 18\, 20457 Hamburg
SEQUENCE:0
SUMMARY:Mehr Sicherheit und Spaß beim Radfahren
UID:67777f6a-a47f-4728-be82-ae46f1895b72
URL:https://touren-termine.adfc.de/radveranstaltung/169087-mehr-sicherheit
 -und-spass-beim-radfahren
END:VEVENT
END:VCALENDAR
