BEGIN:VCALENDAR
PRODID:-//github.com/rianjs/ical.net//NONSGML ical.net 4.0//EN
VERSION:2.0
BEGIN:VEVENT
DESCRIPTION:Das Motto dieser Radtour heißt Spiel und Spaß für kleine Radfa
 hrer.\nhttps://touren-termine.adfc.de/radveranstaltung/191595-zum-spielpl
 atz-radeln
DTEND:20260608T150000Z
DTSTAMP:20260424T231438Z
DTSTART:20260608T130000Z
LOCATION:Schauturm im LGS-Gelände\, Dr.-Kurz-Str.\,\, 92318 Neumarkt in de
 r Oberpfalz
SEQUENCE:0
SUMMARY:Zum Spielplatz radeln
UID:d1ec11c1-e35e-44ed-bca5-ae24ffa24da7
URL:https://touren-termine.adfc.de/radveranstaltung/191595-zum-spielplatz-
 radeln
END:VEVENT
END:VCALENDAR
