BEGIN:VCALENDAR
PRODID:-//github.com/rianjs/ical.net//NONSGML ical.net 4.0//EN
VERSION:2.0
BEGIN:VEVENT
DESCRIPTION:Kennst du die höchste Erhebung Berlins und das letzte Dorf auf
  Berliner Stadtgebiet\, das ringsum von Feldern umgeben ist ?\nDann komm 
 mit nach Arkenberge und Blankenfelde.\nEinkehrmöglichkeit vorhd.\nhttps:/
 /touren-termine.adfc.de/radveranstaltung/133599-tour-in-den-norden-von-pa
 nkow-start-briese
DTEND:20240615T140000Z
DTSTAMP:20260425T144154Z
DTSTART:20240615T090000Z
LOCATION:Birkenwerder\, OT Briese\, Parkplatz an der Waldschule\, 16547 Ob
 erhavel
SEQUENCE:0
SUMMARY:Tour in den Norden von Pankow (Start Briese)
UID:3b9e158e-aa97-477d-8952-9d71a28fffb3
URL:https://touren-termine.adfc.de/radveranstaltung/133599-tour-in-den-nor
 den-von-pankow-start-briese
END:VEVENT
END:VCALENDAR
