BEGIN:VCALENDAR
PRODID:-//github.com/rianjs/ical.net//NONSGML ical.net 4.0//EN
VERSION:2.0
BEGIN:VEVENT
DESCRIPTION:Du willst die Radfahrsituation in Korschenbroich verbessern? D
 ann bist du hier richtig.\nhttps://touren-termine.adfc.de/radveranstaltun
 g/193417-arbeitskreis-mobilitat-und-sicherheit
DTEND:20260416T183000Z
DTSTAMP:20260423T151724Z
DTSTART:20260416T163000Z
LOCATION:Gymnasium Korschenbroich\, Container-Gebäude\, Don-Bosco-Str./Hug
 o-Kamper-Gasse\, 41352 Korschenbroich
SEQUENCE:0
SUMMARY:Arbeitskreis Mobilität und Sicherheit
UID:bb02a5e0-ff5d-486a-a6f7-a3f0005130b2
URL:https://touren-termine.adfc.de/radveranstaltung/193417-arbeitskreis-mo
 bilitat-und-sicherheit
END:VEVENT
END:VCALENDAR
