BEGIN:VCALENDAR
PRODID:-//github.com/rianjs/ical.net//NONSGML ical.net 4.0//EN
VERSION:2.0
BEGIN:VEVENT
DESCRIPTION:Von Möckmühl ein Stück an der Jagst\, dann in Neuenstadt über 
 den Kocher\, über Neckarsulm und Weinsberg in Bottwartal und schließlich 
 über Marbach am Neckar nach Ludwigsburg\nhttps://touren-termine.adfc.de/r
 adveranstaltung/168359-radtour-vom-mockmuhl-nach-ludwigsburg
DTEND:20250808T160000Z
DTSTAMP:20260424T144425Z
DTSTART:20250808T070000Z
LOCATION:Bahnhofstraße\, 71638 Ludwigsburg
SEQUENCE:0
SUMMARY:Radtour vom Möckmühl nach Ludwigsburg
UID:a5515a3b-1c22-428e-b30f-6f02e02d6bf8
URL:https://touren-termine.adfc.de/radveranstaltung/168359-radtour-vom-moc
 kmuhl-nach-ludwigsburg
END:VEVENT
END:VCALENDAR
