BEGIN:VCALENDAR
PRODID:-//github.com/rianjs/ical.net//NONSGML ical.net 4.0//EN
VERSION:2.0
BEGIN:VEVENT
DESCRIPTION:Bei der Codierung wird das Fahrrad mit einem individuellen Cod
 e versehen\, der in verschlüsselter Form die Adresse und die Initialen de
 s Eigentümers/ der Eigentümerin enthält. Anmeldung bis 07.06.\nhttps://to
 uren-termine.adfc.de/radveranstaltung/195694-fahrradcodieraktion-kidical-
 mass
DTEND;VALUE=DATE:20260607
DTSTAMP:20260421T054310Z
DTSTART;VALUE=DATE:20260607
LOCATION:Parkplatz BBS III\, Glückstädter Straße 17\, 21682 Stade
SEQUENCE:0
SUMMARY:Fahrrad-Codieraktion @ Kidical Mass
UID:ab56ec4a-af52-4cd3-83ab-20ccd40b7605
URL:https://touren-termine.adfc.de/radveranstaltung/195694-fahrradcodierak
 tion-kidical-mass
END:VEVENT
END:VCALENDAR
