BEGIN:VCALENDAR
PRODID:-//github.com/rianjs/ical.net//NONSGML ical.net 4.0//EN
VERSION:2.0
BEGIN:VEVENT
DESCRIPTION:Die langsamen und gemütlichen Ausfahrten führen durch die Regi
 on rund um Hechthausen.\nhttps://touren-termine.adfc.de/radveranstaltung/
 176127-nachmittagstour-in-hechthausen
DTEND:20260817T140000Z
DTSTAMP:20260421T114929Z
DTSTART:20260817T113000Z
LOCATION:Engelstüvchen\, Mühlenstraße 2\, 21755 Landkreis Cuxhaven
SEQUENCE:0
SUMMARY:Nachmittagstour in Hechthausen
UID:759d045b-9301-4d8e-aefa-b9500663ec73
URL:https://touren-termine.adfc.de/radveranstaltung/176127-nachmittagstour
 -in-hechthausen
END:VEVENT
END:VCALENDAR
