BEGIN:VCALENDAR
PRODID:-//github.com/rianjs/ical.net//NONSGML ical.net 4.0//EN
VERSION:2.0
BEGIN:VEVENT
DESCRIPTION:Über Stock und Stein am Abend? Das bieten wir bei unseren MTB-
 Feierabendtouren jeden 2. und 4. Mittwoch im Monat rund um Bietigheim-Bis
 singen.\nhttps://touren-termine.adfc.de/radveranstaltung/182826-bietighei
 mbissinger-mountainbikefeierabendtouren
DTEND:20260722T190000Z
DTSTAMP:20260425T194724Z
DTSTART:20260722T163000Z
LOCATION:Enzpavillon\, 74321 Bietigheim-Bissingen
SEQUENCE:0
SUMMARY:Bietigheim-Bissinger Mountainbike-Feierabendtouren
UID:2f6bfc57-7b7c-4e70-907d-2852b0c6bf9b
URL:https://touren-termine.adfc.de/radveranstaltung/182826-bietigheimbissi
 nger-mountainbikefeierabendtouren
END:VEVENT
END:VCALENDAR
