BEGIN:VCALENDAR
PRODID:-//github.com/rianjs/ical.net//NONSGML ical.net 4.0//EN
VERSION:2.0
BEGIN:VEVENT
DESCRIPTION:Fr.\, 17.07.: Feierabendtour in den Norden Langenhagens\; Abfa
 hren von GLieM-Punkten im Norden mit Besuch der Wagenzeller Mühle in Kräh
 enwinkel unter fachkundiger Leitung\nhttps://touren-termine.adfc.de/radve
 ranstaltung/198270-gliemfeierabend-tour-in-den-norden-von-lgh
DTEND:20260717T150000Z
DTSTAMP:20260424T112929Z
DTSTART:20260717T150000Z
LOCATION:Zwischen Rathaus und Post\, Marktplatz\, 30853 Langenhagen
SEQUENCE:0
SUMMARY:GLieM-Feierabend Tour in den Norden von Lgh
UID:15f597ca-c3f8-4522-bd7e-50368d88d52b
URL:https://touren-termine.adfc.de/radveranstaltung/198270-gliemfeierabend
 -tour-in-den-norden-von-lgh
END:VEVENT
END:VCALENDAR
