BEGIN:VCALENDAR
PRODID:-//github.com/rianjs/ical.net//NONSGML ical.net 4.0//EN
VERSION:2.0
BEGIN:VEVENT
DESCRIPTION:Eine Radtour auf grenznahen Wegen um das Land Thüringen\nhttps
 ://touren-termine.adfc.de/radveranstaltung/140079-mit-dem-fahrrad-um-das-
 land-thuringen
DTEND:20250515T160000Z
DTSTAMP:20260424T144413Z
DTSTART:20250503T060000Z
LOCATION:Am Hauptbahnhof 2\, 70173 Stuttgart
SEQUENCE:0
SUMMARY:Mit dem Fahrrad um das Land Thüringen
UID:c532c4b0-2f43-4bb3-ad7b-4096560d026c
URL:https://touren-termine.adfc.de/radveranstaltung/140079-mit-dem-fahrrad
 -um-das-land-thuringen
END:VEVENT
END:VCALENDAR
