BEGIN:VCALENDAR
PRODID:-//github.com/rianjs/ical.net//NONSGML ical.net 4.0//EN
VERSION:2.0
BEGIN:VEVENT
DESCRIPTION:Radreise im Verlauf der romantischen Straße über Augsburg\, Do
 nauwörth\, Nördlingen\, Feuchtwangen\, Rothenburg\, Marktbreit nach Würzb
 urg\nhttps://touren-termine.adfc.de/radveranstaltung/191439-von-schwaben-
 nach-franken
DTEND:20260712T100000Z
DTSTAMP:20260425T151029Z
DTSTART:20260704T070000Z
LOCATION:S-Bahnhof\, 82131 Gauting
SEQUENCE:0
SUMMARY:Von Schwaben nach Franken
UID:0331f3b5-aede-441a-87b0-f0f23eec891f
URL:https://touren-termine.adfc.de/radveranstaltung/191439-von-schwaben-na
 ch-franken
END:VEVENT
END:VCALENDAR
