BEGIN:VCALENDAR
PRODID:-//github.com/rianjs/ical.net//NONSGML ical.net 4.0//EN
VERSION:2.0
BEGIN:VEVENT
DESCRIPTION:Vor dem Radlerstammtisch treffen sich die Aktiven und die Vors
 tandschaft.\nhttps://touren-termine.adfc.de/radveranstaltung/174098-aktiv
 entreff
DTEND:20261001T170000Z
DTSTAMP:20260419T155720Z
DTSTART:20261001T160000Z
LOCATION:Gasthaus Belfort\, Mindelheimer Straße 35\, 87600 Kaufbeuren
SEQUENCE:0
SUMMARY:Aktiventreff
UID:2d0a2beb-cde1-4a11-96c0-53f539e70b33
URL:https://touren-termine.adfc.de/radveranstaltung/174098-aktiventreff
END:VEVENT
END:VCALENDAR
