BEGIN:VCALENDAR
PRODID:-//github.com/rianjs/ical.net//NONSGML ical.net 4.0//EN
VERSION:2.0
BEGIN:VEVENT
DESCRIPTION:Zum Tagesausklang radeln wir für zwei bis drei Stunden einschl
 ießlich Einkehr in die nähere Umgebung von Oranienburg.\nhttps://touren-t
 ermine.adfc.de/radveranstaltung/102307-oranienburg-feierabendrundtour
DTEND:20230608T190000Z
DTSTAMP:20260425T231828Z
DTSTART:20230608T160000Z
LOCATION:Bahnhofsplatz Oranienburg\, 16515 Oranienburg
SEQUENCE:0
SUMMARY:Oranienburg Feierabend-Rundtour
UID:fa3a6a1b-f920-4499-b1e0-e9fe0ad91b3f
URL:https://touren-termine.adfc.de/radveranstaltung/102307-oranienburg-fei
 erabendrundtour
END:VEVENT
END:VCALENDAR
