BEGIN:VCALENDAR
PRODID:-//github.com/rianjs/ical.net//NONSGML ical.net 4.0//EN
VERSION:2.0
BEGIN:VEVENT
DESCRIPTION:Wir radeln zu einigen Spielorten der Extraschicht.\nhttps://to
 uren-termine.adfc.de/radveranstaltung/190871-extraschicht
DTEND:20260627T215500Z
DTSTAMP:20260421T185604Z
DTSTART:20260627T140000Z
LOCATION:Parkplatz Holschentor\, Talstraße 8\, 45525 Hattingen
SEQUENCE:0
SUMMARY:Extraschicht
UID:aec6292e-bbfa-4d05-9ef5-75bd8ae89a7d
URL:https://touren-termine.adfc.de/radveranstaltung/190871-extraschicht
END:VEVENT
END:VCALENDAR
