BEGIN:VCALENDAR
PRODID:-//github.com/rianjs/ical.net//NONSGML ical.net 4.0//EN
VERSION:2.0
BEGIN:VEVENT
DESCRIPTION:Der Mountainbikeklassiker im Naturpark Stromberg-Heuchelberg: 
 Auf wenig befahrenen Trails geht es über die Höhen des Strombergs\, von w
 o aus wir Natur und Ausblicke in die Ferne genießen.\nhttps://touren-term
 ine.adfc.de/radveranstaltung/114820-der-strombergrennweg-im-sommer
DTEND:20240707T150000Z
DTSTAMP:20260425T193836Z
DTSTART:20240707T070000Z
LOCATION:Kuhriosum (Kronenplatz)\, 74321 Bietigheim-Bissingen
SEQUENCE:0
SUMMARY:Der Stromberg-Rennweg im Sommer
UID:877798d5-80f4-4e5b-8e70-600e9e9ec826
URL:https://touren-termine.adfc.de/radveranstaltung/114820-der-strombergre
 nnweg-im-sommer
END:VEVENT
END:VCALENDAR
