BEGIN:VCALENDAR
PRODID:-//github.com/rianjs/ical.net//NONSGML ical.net 4.0//EN
VERSION:2.0
BEGIN:VEVENT
DESCRIPTION:Du willst die Radfahrsituation in Korschenbroich verbessern? D
 ann bist du hier richtig.\nhttps://touren-termine.adfc.de/radveranstaltun
 g/137390-arbeitskreis-mobilitat-und-sicherheit
DTEND:20241121T200000Z
DTSTAMP:20260423T151759Z
DTSTART:20241121T173000Z
LOCATION:Don-Bosco-Straße 4-6\, Eingang Borrenweg\, 41352 Korschenbroich
SEQUENCE:0
SUMMARY:Arbeitskreis Mobilität und Sicherheit
UID:aacc32bb-fd16-4db7-8a5b-95afee3f56c1
URL:https://touren-termine.adfc.de/radveranstaltung/137390-arbeitskreis-mo
 bilitat-und-sicherheit
END:VEVENT
END:VCALENDAR
